BEGIN:VCALENDAR
VERSION:2.0
PRODID:-//wp-events-plugin.com//7.2.3.1//EN
TZID:America/New_York
X-WR-TIMEZONE:America/New_York
BEGIN:VEVENT
UID:17@tapintotravel.com
DTSTART;TZID=America/New_York:20250415T120000
DTEND;TZID=America/New_York:20250415T123000
DTSTAMP:20250327T223437Z
URL:https://www.tapintotravel.com/tap-events/whats-up-down-under/
SUMMARY:What's Up Down Under?
DESCRIPTION:Get ready for an unforgettable journey through Australia and Ne
 w Zealand as we highlight some of the most unique experiences Down Under\,
  including cuddly koalas\, glow worms\, geothermal wonders\, and rich Māo
 ri traditions. Discover the magic of the Waitomo Caves\, explore vibrant I
 ndigenous cultures\, and learn how to pronounce Whakarewarewa like a pro. 
 Join us and Anderson Vacations for a fun and informative session that will
  give you the tools to inspire Down Under tour bookings with confidence.
ATTACH;FMTTYPE=image/jpeg:https://www.tapintotravel.com/wp-content/uploads
 /2025/03/down-under.jpg
END:VEVENT
BEGIN:VTIMEZONE
TZID:America/New_York
X-LIC-LOCATION:America/New_York
BEGIN:DAYLIGHT
DTSTART:20250309T030000
TZOFFSETFROM:-0500
TZOFFSETTO:-0400
TZNAME:EDT
END:DAYLIGHT
END:VTIMEZONE
END:VCALENDAR